{
 "currentVersion": 10.91,
 "serviceDescription": "Support service for the dev version of the Assessor AES Comp Sales",
 "mapName": "Layers",
 "description": "",
 "copyrightText": "County of San Bernardino",
 "supportsDynamicLayers": true,
 "layers": [
  {
   "id": 0,
   "name": "Parcel Labels",
   "parentLayerId": -1,
   "defaultVisibility": false,
   "subLayerIds": null,
   "minScale": 24000,
   "maxScale": 0,
   "type": "Feature Layer",
   "geometryType": "esriGeometryPoint"
  },
  {
   "id": 1,
   "name": "Assessor Book Boundaries",
   "parentLayerId": -1,
   "defaultVisibility": true,
   "subLayerIds": null,
   "minScale": 65000,
   "maxScale": 0,
   "type": "Feature Layer",
   "geometryType": "esriGeometryPolygon"
  },
  {
   "id": 2,
   "name": "Street Network",
   "parentLayerId": -1,
   "defaultVisibility": true,
   "subLayerIds": null,
   "minScale": 0,
   "maxScale": 0,
   "type": "Feature Layer",
   "geometryType": "esriGeometryPolyline"
  },
  {
   "id": 3,
   "name": "Parcels",
   "parentLayerId": -1,
   "defaultVisibility": true,
   "subLayerIds": null,
   "minScale": 42000,
   "maxScale": 0,
   "type": "Feature Layer",
   "geometryType": "esriGeometryPolygon"
  },
  {
   "id": 4,
   "name": "County Boundary",
   "parentLayerId": -1,
   "defaultVisibility": true,
   "subLayerIds": null,
   "minScale": 0,
   "maxScale": 0,
   "type": "Feature Layer",
   "geometryType": "esriGeometryPolygon"
  },
  {
   "id": 5,
   "name": "National Park",
   "parentLayerId": -1,
   "defaultVisibility": true,
   "subLayerIds": null,
   "minScale": 0,
   "maxScale": 0,
   "type": "Feature Layer",
   "geometryType": "esriGeometryPolygon"
  },
  {
   "id": 6,
   "name": "Cities",
   "parentLayerId": -1,
   "defaultVisibility": true,
   "subLayerIds": null,
   "minScale": 0,
   "maxScale": 0,
   "type": "Feature Layer",
   "geometryType": "esriGeometryPolygon"
  },
  {
   "id": 7,
   "name": "National Forest",
   "parentLayerId": -1,
   "defaultVisibility": true,
   "subLayerIds": null,
   "minScale": 0,
   "maxScale": 0,
   "type": "Feature Layer",
   "geometryType": "esriGeometryPolygon"
  },
  {
   "id": 8,
   "name": "Lakes",
   "parentLayerId": -1,
   "defaultVisibility": true,
   "subLayerIds": null,
   "minScale": 0,
   "maxScale": 0,
   "type": "Feature Layer",
   "geometryType": "esriGeometryPolygon"
  }
 ],
 "tables": [
  {
   "id": 9,
   "name": "DisplayTypes",
   "type": "Table"
  }
 ],
 "spatialReference": {
  "wkid": 103007,
  "latestWkid": 6424
 },
 "singleFusedMapCache": true,
 "tileInfo": {
  "rows": 256,
  "cols": 256,
  "dpi": 96,
  "format": "PNG",
  "compressionQuality": 0,
  "origin": {
   "x": -117608900,
   "y": 156459700
  },
  "spatialReference": {
   "wkid": 103007,
   "latestWkid": 6424
  },
  "lods": [
   {
    "level": 0,
    "resolution": 1002.6666666666666,
    "scale": 1155072
   },
   {
    "level": 1,
    "resolution": 501.3333333333333,
    "scale": 577536
   },
   {
    "level": 2,
    "resolution": 250.66666666666666,
    "scale": 288768
   },
   {
    "level": 3,
    "resolution": 125.33333333333333,
    "scale": 144384
   },
   {
    "level": 4,
    "resolution": 62.666666666666664,
    "scale": 72192
   },
   {
    "level": 5,
    "resolution": 31.333333333333332,
    "scale": 36096
   },
   {
    "level": 6,
    "resolution": 15.666666666666666,
    "scale": 18048
   },
   {
    "level": 7,
    "resolution": 7.833333333333333,
    "scale": 9024
   },
   {
    "level": 8,
    "resolution": 3.9166666666666665,
    "scale": 4512
   },
   {
    "level": 9,
    "resolution": 1.9583333333333333,
    "scale": 2256
   },
   {
    "level": 10,
    "resolution": 0.9791666666666666,
    "scale": 1128
   },
   {
    "level": 11,
    "resolution": 0.43402777777777773,
    "scale": 500
   }
  ]
 },
 "initialExtent": {
  "xmin": 6762230.794001727,
  "ymin": 1898255.079618594,
  "xmax": 6768742.638362524,
  "ymax": 1903761.739950543,
  "spatialReference": {
   "wkid": 103007,
   "latestWkid": 6424
  }
 },
 "fullExtent": {
  "xmin": 6557645.003682715,
  "ymin": 1644267.1244936758,
  "xmax": 7744918.650000006,
  "ymax": 3040812.0000000317,
  "spatialReference": {
   "wkid": 103007,
   "latestWkid": 6424
  }
 },
 "minScale": 1155072,
 "maxScale": 500,
 "minLOD": 0,
 "maxLOD": 11,
 "units": "esriFeet",
 "supportedImageFormatTypes": "PNG32,PNG24,PNG,JPG,DIB,TIFF,EMF,PS,PDF,GIF,SVG,SVGZ,BMP",
 "documentInfo": {
  "Title": "",
  "Author": "",
  "Comments": "Assessor AES Comp Sales support service",
  "Subject": "Assessor AES Comp Sales support service",
  "Category": "",
  "AntialiasingMode": "None",
  "TextAntialiasingMode": "Force",
  "Keywords": "Assessor,Comp Sales,Parcel"
 },
 "capabilities": "Map,Query,Data",
 "supportedQueryFormats": "JSON, geoJSON",
 "exportTilesAllowed": false,
 "referenceScale": 0,
 "supportsDatumTransformation": true,
 "maxRecordCount": 1000,
 "maxImageHeight": 4096,
 "maxImageWidth": 4096,
 "supportedExtensions": "",
 "resampling": true,
 "serviceItemId": "41ed5820245449e09e0456da6593c381"
}
