{
 "currentVersion": 10.91,
 "serviceDescription": "Y2014_NAIP_cache",
 "mapName": "Layers",
 "description": "",
 "copyrightText": "",
 "supportsDynamicLayers": true,
 "layers": [
  {
   "id": 0,
   "name": "Layers",
   "parentLayerId": -1,
   "defaultVisibility": true,
   "subLayerIds": null,
   "minScale": 0,
   "maxScale": 0,
   "type": "Raster Layer"
  }
 ],
 "tables": [],
 "spatialReference": {
  "wkid": 103007,
  "latestWkid": 6424
 },
 "singleFusedMapCache": true,
 "tileInfo": {
  "rows": 128,
  "cols": 128,
  "dpi": 96,
  "format": "MIXED",
  "compressionQuality": 75,
  "origin": {
   "x": -117608900,
   "y": 156459700
  },
  "spatialReference": {
   "wkid": 103007,
   "latestWkid": 6424
  },
  "lods": [
   {
    "level": 0,
    "resolution": 1504,
    "scale": 1732608
   },
   {
    "level": 1,
    "resolution": 1002.6666666666666,
    "scale": 1155072
   },
   {
    "level": 2,
    "resolution": 501.3333333333333,
    "scale": 577536
   },
   {
    "level": 3,
    "resolution": 250.66666666666666,
    "scale": 288768
   },
   {
    "level": 4,
    "resolution": 125.33333333333333,
    "scale": 144384
   },
   {
    "level": 5,
    "resolution": 62.666666666666664,
    "scale": 72192
   },
   {
    "level": 6,
    "resolution": 31.333333333333332,
    "scale": 36096
   },
   {
    "level": 7,
    "resolution": 15.666666666666666,
    "scale": 18048
   },
   {
    "level": 8,
    "resolution": 7.833333333333333,
    "scale": 9024
   },
   {
    "level": 9,
    "resolution": 3.9166666666666665,
    "scale": 4512
   },
   {
    "level": 10,
    "resolution": 1.9583333333333333,
    "scale": 2256
   },
   {
    "level": 11,
    "resolution": 0.9791666666666666,
    "scale": 1128
   }
  ]
 },
 "initialExtent": {
  "xmin": 6263433.5825000005,
  "ymin": 2005082.9401111328,
  "xmax": 8086350.249166663,
  "ymax": 3038069.051222242,
  "spatialReference": {
   "wkid": 103007,
   "latestWkid": 6424
  }
 },
 "fullExtent": {
  "xmin": 6527720.3125,
  "ymin": 1617617.3958333533,
  "xmax": 7851205.0625,
  "ymax": 2712093.6666666865,
  "spatialReference": {
   "wkid": 103007,
   "latestWkid": 6424
  }
 },
 "minScale": 1732608,
 "maxScale": 1128,
 "units": "esriFeet",
 "supportedImageFormatTypes": "PNG32,PNG24,PNG,JPG,DIB,TIFF,EMF,PS,PDF,GIF,SVG,SVGZ,BMP",
 "documentInfo": {
  "Title": "",
  "Author": "",
  "Comments": "",
  "Subject": "",
  "Category": "",
  "AntialiasingMode": "None",
  "TextAntialiasingMode": "Force",
  "Keywords": "Y2014_NAIP_cache"
 },
 "capabilities": "Map,Query,Data",
 "supportedQueryFormats": "JSON, geoJSON",
 "exportTilesAllowed": false,
 "referenceScale": 0,
 "supportsDatumTransformation": true,
 "maxRecordCount": 1000,
 "maxImageHeight": 4096,
 "maxImageWidth": 4096,
 "supportedExtensions": "KmlServer",
 "serviceItemId": "5ca3a7e19ece4201a7443635870fc604"
}
