View In:
ArcGIS JavaScript
ArcGIS Online Map Viewer
ArcGIS Earth
ArcMap
View Footprint In:
ArcGIS Online Map Viewer
Service Description: SPOT_20210710
Name: SPOT_20210710
Description:
Single Fused Map Cache: false
Extent:
XMin: -116.902402777778
YMin: 34.4165416666667
XMax: -116.78222222222244
YMax: 34.5182916666667
Spatial Reference: 4326
(4326)
LatestVCSWkid(0)
Initial Extent:
XMin: -116.902402777778
YMin: 34.4165416666667
XMax: -116.78222222222244
YMax: 34.5182916666667
Spatial Reference: 4326
(4326)
LatestVCSWkid(0)
Full Extent:
XMin: -116.902402777778
YMin: 34.4165416666667
XMax: -116.78222222222244
YMax: 34.5182916666667
Spatial Reference: 4326
(4326)
LatestVCSWkid(0)
Pixel Size X: 1.3888888888888192E-5
Pixel Size Y: 1.3888888888888283E-5
Band Count: 4
Pixel Type: U16
RasterFunction Infos: {"rasterFunctionInfos": [{
"name": "None",
"description": "",
"help": ""
}]}
Mensuration Capabilities: Basic,Base-Top Shadow Height,Shadow
Has Histograms: false
Has Colormap: false
Has Multi Dimensions : false
Rendering Rule:
Min Scale: 0
Max Scale: 0
Copyright Text:
Service Data Type: esriImageServiceDataTypeGeneric
Min Values: 0, 0, 0, 0
Max Values: 9445, 8930, 9813, 8974
Mean Values: 2918.9503407839, 2363.7318630307, 1742.1193363599, 3544.6356930925
Standard Deviation Values: 694.38868306484, 566.80554457828, 437.83890521479, 806.44208354916
Object ID Field:
Fields:
None
Default Mosaic Method: Center
Allowed Mosaic Methods:
SortField:
SortValue: null
Mosaic Operator: First
Default Compression Quality: 75
Default Resampling Method: Bilinear
Max Record Count: 1000
Max Image Height: 4100
Max Image Width: 15000
Max Download Image Count: 20
Max Mosaic Image Count: 20
Allow Raster Function: true
Allow Copy: false
Allow Analysis: true
Allow Compute TiePoints: false
Supports Statistics: false
Supports Advanced Queries: false
Use StandardizedQueries: true
Raster Type Infos:
Name: Raster Dataset
Description: Supports all ArcGIS Raster Datasets
Help:
Has Raster Attribute Table: false
Edit Fields Info: null
Ownership Based AccessControl For Rasters: null
Child Resources:
Info
Statistics
Key Properties
Legend
Raster Function Infos
Supported Operations:
Export Image
Identify
Measure
Compute Histograms
Compute Statistics Histograms
Get Samples
Compute Class Statistics
Query Boundary
Compute Pixel Location
Compute Angles
Validate
Project